Package: MEIGOR Version: 1.34.0 Command: chmod a+r MEIGOR -R && F:\biocbuild\bbs-3.17-bioc\R\bin\R.exe CMD build --keep-empty-dirs --no-resave-data MEIGOR StartedAt: 2023-10-15 20:14:46 -0400 (Sun, 15 Oct 2023) EndedAt: 2023-10-15 20:15:12 -0400 (Sun, 15 Oct 2023) EllapsedTime: 26.3 seconds RetCode: 1 Status: ERROR PackageFile: None PackageFileSize: NA