Package: MEDIPS Version: 1.52.0 Command: F:\biocbuild\bbs-3.17-bioc\R\bin\R.exe CMD check --no-multiarch --install=check:MEDIPS.install-out.txt --library=F:\biocbuild\bbs-3.17-bioc\R\library --no-vignettes --timings MEDIPS_1.52.0.tar.gz StartedAt: 2023-10-16 03:46:36 -0400 (Mon, 16 Oct 2023) EndedAt: 2023-10-16 03:52:28 -0400 (Mon, 16 Oct 2023) EllapsedTime: 351.5 seconds RetCode: 0 Status: OK CheckDir: MEDIPS.Rcheck Warnings: 0