Package: MEDIPS Version: 1.52.0 Command: rm -rf MEDIPS.buildbin-libdir && mkdir MEDIPS.buildbin-libdir && F:\biocbuild\bbs-3.17-bioc\R\bin\R.exe CMD INSTALL --build --library=MEDIPS.buildbin-libdir MEDIPS_1.52.0.tar.gz StartedAt: 2023-10-16 09:02:46 -0400 (Mon, 16 Oct 2023) EndedAt: 2023-10-16 09:03:35 -0400 (Mon, 16 Oct 2023) EllapsedTime: 49.9 seconds RetCode: 0 Status: OK PackageFile: MEDIPS_1.52.0.zip PackageFileSize: 750.2 KiB