Package: MEDIPS Version: 1.52.0 Command: rm -rf MEDIPS.buildbin-libdir && mkdir MEDIPS.buildbin-libdir && /Users/biocbuild/BBS/utils/build-universal.sh MEDIPS_1.52.0.tar.gz /Library/Frameworks/R.framework/Resources/bin/R MEDIPS.buildbin-libdir StartedAt: 2023-10-16 09:40:39 -0400 (Mon, 16 Oct 2023) EndedAt: 2023-10-16 09:43:02 -0400 (Mon, 16 Oct 2023) EllapsedTime: 142.3 seconds RetCode: 0 Status: OK PackageFile: MEDIPS_1.52.0.tgz PackageFileSize: 747.4 KiB