Package: MEB Version: 1.14.0 Command: F:\biocbuild\bbs-3.17-bioc\R\bin\R.exe CMD check --no-multiarch --install=check:MEB.install-out.txt --library=F:\biocbuild\bbs-3.17-bioc\R\library --no-vignettes --timings MEB_1.14.0.tar.gz StartedAt: 2023-10-16 03:46:23 -0400 (Mon, 16 Oct 2023) EndedAt: 2023-10-16 03:49:26 -0400 (Mon, 16 Oct 2023) EllapsedTime: 183.3 seconds RetCode: 0 Status: OK CheckDir: MEB.Rcheck Warnings: 0