Package: MEB Version: 1.14.0 Command: chmod a+r MEB -R && F:\biocbuild\bbs-3.17-bioc\R\bin\R.exe CMD build --keep-empty-dirs --no-resave-data MEB StartedAt: 2023-10-15 20:14:31 -0400 (Sun, 15 Oct 2023) EndedAt: 2023-10-15 20:15:21 -0400 (Sun, 15 Oct 2023) EllapsedTime: 50.4 seconds RetCode: 0 Status: OK PackageFile: MEB_1.14.0.tar.gz PackageFileSize: 1.179 MiB