Package: MDTS Version: 1.20.0 Command: /home/biocbuild/bbs-3.17-bioc/R/bin/R CMD check --install=check:MDTS.install-out.txt --library=/home/biocbuild/bbs-3.17-bioc/R/site-library --timings MDTS_1.20.0.tar.gz StartedAt: 2023-10-15 22:32:50 -0400 (Sun, 15 Oct 2023) EndedAt: 2023-10-15 22:35:40 -0400 (Sun, 15 Oct 2023) EllapsedTime: 170.3 seconds RetCode: 0 Status: OK CheckDir: MDTS.Rcheck Warnings: 0