Package: MDTS Version: 1.20.0 Command: /Library/Frameworks/R.framework/Resources/bin/R CMD check --install=check:MDTS.install-out.txt --library=/Library/Frameworks/R.framework/Resources/library --no-vignettes --timings MDTS_1.20.0.tar.gz StartedAt: 2023-10-16 03:31:43 -0400 (Mon, 16 Oct 2023) EndedAt: 2023-10-16 03:38:46 -0400 (Mon, 16 Oct 2023) EllapsedTime: 422.4 seconds RetCode: 0 Status: OK CheckDir: MDTS.Rcheck Warnings: 0