Package: MDTS Version: 1.20.0 Command: /Library/Frameworks/R.framework/Resources/bin/R CMD build --keep-empty-dirs --no-resave-data MDTS StartedAt: 2023-10-15 19:18:13 -0400 (Sun, 15 Oct 2023) EndedAt: 2023-10-15 19:19:32 -0400 (Sun, 15 Oct 2023) EllapsedTime: 78.9 seconds RetCode: 0 Status: OK PackageFile: MDTS_1.20.0.tar.gz PackageFileSize: 31.34 KiB