Package: MDTS Version: 1.20.0 Command: rm -rf MDTS.buildbin-libdir && mkdir MDTS.buildbin-libdir && /Users/biocbuild/BBS/utils/build-universal.sh MDTS_1.20.0.tar.gz /Library/Frameworks/R.framework/Resources/bin/R MDTS.buildbin-libdir StartedAt: 2023-10-16 09:40:27 -0400 (Mon, 16 Oct 2023) EndedAt: 2023-10-16 09:41:38 -0400 (Mon, 16 Oct 2023) EllapsedTime: 71.6 seconds RetCode: 0 Status: OK PackageFile: MDTS_1.20.0.tgz PackageFileSize: 78.69 KiB