Package: MCbiclust Version: 1.24.0 Command: F:\biocbuild\bbs-3.17-bioc\R\bin\R.exe CMD INSTALL MCbiclust StartedAt: 2023-10-15 16:36:40 -0400 (Sun, 15 Oct 2023) EndedAt: 2023-10-15 16:37:05 -0400 (Sun, 15 Oct 2023) EllapsedTime: 25.1 seconds RetCode: 0 Status: OK