Package: MCbiclust Version: 1.24.0 Command: chmod a+r MCbiclust -R && F:\biocbuild\bbs-3.17-bioc\R\bin\R.exe CMD build --keep-empty-dirs --no-resave-data MCbiclust StartedAt: 2023-10-15 20:13:51 -0400 (Sun, 15 Oct 2023) EndedAt: 2023-10-15 20:16:08 -0400 (Sun, 15 Oct 2023) EllapsedTime: 136.8 seconds RetCode: 0 Status: OK PackageFile: MCbiclust_1.24.0.tar.gz PackageFileSize: 3.693 MiB