Package: MCbiclust Version: 1.24.0 Command: rm -rf MCbiclust.buildbin-libdir && mkdir MCbiclust.buildbin-libdir && F:\biocbuild\bbs-3.17-bioc\R\bin\R.exe CMD INSTALL --build --library=MCbiclust.buildbin-libdir MCbiclust_1.24.0.tar.gz StartedAt: 2023-10-16 09:02:31 -0400 (Mon, 16 Oct 2023) EndedAt: 2023-10-16 09:02:58 -0400 (Mon, 16 Oct 2023) EllapsedTime: 27.6 seconds RetCode: 0 Status: OK PackageFile: MCbiclust_1.24.0.zip PackageFileSize: 5.161 MiB