Package: MCbiclust Version: 1.24.0 Command: /home/biocbuild/bbs-3.17-bioc/R/bin/R CMD check --install=check:MCbiclust.install-out.txt --library=/home/biocbuild/bbs-3.17-bioc/R/site-library --timings MCbiclust_1.24.0.tar.gz StartedAt: 2023-10-15 22:32:14 -0400 (Sun, 15 Oct 2023) EndedAt: 2023-10-15 22:38:31 -0400 (Sun, 15 Oct 2023) EllapsedTime: 377.5 seconds RetCode: 0 Status: OK CheckDir: MCbiclust.Rcheck Warnings: 0