Package: MCbiclust Version: 1.24.0 Command: /home/biocbuild/bbs-3.17-bioc/R/bin/R CMD build --keep-empty-dirs --no-resave-data MCbiclust StartedAt: 2023-10-15 17:19:52 -0400 (Sun, 15 Oct 2023) EndedAt: 2023-10-15 17:21:02 -0400 (Sun, 15 Oct 2023) EllapsedTime: 70.3 seconds RetCode: 0 Status: OK PackageFile: MCbiclust_1.24.0.tar.gz PackageFileSize: 6.207 MiB