Package: MCbiclust Version: 1.24.0 Command: /Library/Frameworks/R.framework/Resources/bin/R CMD check --install=check:MCbiclust.install-out.txt --library=/Library/Frameworks/R.framework/Resources/library --no-vignettes --timings MCbiclust_1.24.0.tar.gz StartedAt: 2023-10-16 03:31:01 -0400 (Mon, 16 Oct 2023) EndedAt: 2023-10-16 03:47:32 -0400 (Mon, 16 Oct 2023) EllapsedTime: 990.9 seconds RetCode: 0 Status: OK CheckDir: MCbiclust.Rcheck Warnings: 0