Package: MBttest Version: 1.28.0 Command: chmod a+r MBttest -R && F:\biocbuild\bbs-3.17-bioc\R\bin\R.exe CMD build --keep-empty-dirs --no-resave-data MBttest StartedAt: 2023-10-15 20:13:28 -0400 (Sun, 15 Oct 2023) EndedAt: 2023-10-15 20:13:51 -0400 (Sun, 15 Oct 2023) EllapsedTime: 23.1 seconds RetCode: 0 Status: OK PackageFile: MBttest_1.28.0.tar.gz PackageFileSize: 3.451 MiB