Package: MBttest Version: 1.28.0 Command: /Library/Frameworks/R.framework/Resources/bin/R CMD build --keep-empty-dirs --no-resave-data MBttest StartedAt: 2023-10-15 19:17:15 -0400 (Sun, 15 Oct 2023) EndedAt: 2023-10-15 19:18:09 -0400 (Sun, 15 Oct 2023) EllapsedTime: 53.5 seconds RetCode: 0 Status: OK PackageFile: MBttest_1.28.0.tar.gz PackageFileSize: 3.447 MiB