Package: MBttest Version: 1.28.0 Command: rm -rf MBttest.buildbin-libdir && mkdir MBttest.buildbin-libdir && /Users/biocbuild/BBS/utils/build-universal.sh MBttest_1.28.0.tar.gz /Library/Frameworks/R.framework/Resources/bin/R MBttest.buildbin-libdir StartedAt: 2023-10-16 09:40:22 -0400 (Mon, 16 Oct 2023) EndedAt: 2023-10-16 09:40:32 -0400 (Mon, 16 Oct 2023) EllapsedTime: 9.8 seconds RetCode: 0 Status: OK PackageFile: MBttest_1.28.0.tgz PackageFileSize: 2.586 MiB