Package: MBQN Version: 2.12.0 Command: /home/biocbuild/bbs-3.17-bioc/R/bin/R CMD INSTALL MBQN StartedAt: 2023-10-15 15:27:57 -0400 (Sun, 15 Oct 2023) EndedAt: 2023-10-15 15:27:59 -0400 (Sun, 15 Oct 2023) EllapsedTime: 2.3 seconds RetCode: 0 Status: OK