Package: MBQN Version: 2.12.0 Command: /home/biocbuild/bbs-3.17-bioc/R/bin/R CMD check --install=check:MBQN.install-out.txt --library=/home/biocbuild/bbs-3.17-bioc/R/site-library --timings MBQN_2.12.0.tar.gz StartedAt: 2023-10-15 22:31:45 -0400 (Sun, 15 Oct 2023) EndedAt: 2023-10-15 22:32:13 -0400 (Sun, 15 Oct 2023) EllapsedTime: 28.7 seconds RetCode: 0 Status: OK CheckDir: MBQN.Rcheck Warnings: 0