Package: MBQN Version: 2.12.0 Command: /home/biocbuild/bbs-3.17-bioc/R/bin/R CMD build --keep-empty-dirs --no-resave-data MBQN StartedAt: 2023-10-15 17:19:35 -0400 (Sun, 15 Oct 2023) EndedAt: 2023-10-15 17:19:43 -0400 (Sun, 15 Oct 2023) EllapsedTime: 8.0 seconds RetCode: 0 Status: OK PackageFile: MBQN_2.12.0.tar.gz PackageFileSize: 183.9 KiB