Package: MBECS Version: 1.4.0 Command: /home/biocbuild/bbs-3.17-bioc/R/bin/R CMD check --install=check:MBECS.install-out.txt --library=/home/biocbuild/bbs-3.17-bioc/R/site-library --timings MBECS_1.4.0.tar.gz StartedAt: 2023-10-15 22:31:33 -0400 (Sun, 15 Oct 2023) EndedAt: 2023-10-15 22:36:16 -0400 (Sun, 15 Oct 2023) EllapsedTime: 283.5 seconds RetCode: 0 Status: OK CheckDir: MBECS.Rcheck Warnings: 0