Package: MBECS Version: 1.4.0 Command: /Library/Frameworks/R.framework/Resources/bin/R CMD build --keep-empty-dirs --no-resave-data MBECS StartedAt: 2023-10-15 19:16:16 -0400 (Sun, 15 Oct 2023) EndedAt: 2023-10-15 19:19:09 -0400 (Sun, 15 Oct 2023) EllapsedTime: 172.5 seconds RetCode: 0 Status: OK PackageFile: MBECS_1.4.0.tar.gz PackageFileSize: 1.63 MiB