Package: MBECS Version: 1.4.0 Command: rm -rf MBECS.buildbin-libdir && mkdir MBECS.buildbin-libdir && /Users/biocbuild/BBS/utils/build-universal.sh MBECS_1.4.0.tar.gz /Library/Frameworks/R.framework/Resources/bin/R MBECS.buildbin-libdir StartedAt: 2023-10-16 09:40:13 -0400 (Mon, 16 Oct 2023) EndedAt: 2023-10-16 09:41:28 -0400 (Mon, 16 Oct 2023) EllapsedTime: 75.6 seconds RetCode: 0 Status: OK PackageFile: MBECS_1.4.0.tgz PackageFileSize: 702.3 KiB