Package: MBCB Version: 1.54.0 Command: F:\biocbuild\bbs-3.17-bioc\R\bin\R.exe CMD INSTALL MBCB StartedAt: 2023-10-15 15:47:56 -0400 (Sun, 15 Oct 2023) EndedAt: 2023-10-15 15:48:14 -0400 (Sun, 15 Oct 2023) EllapsedTime: 17.5 seconds RetCode: 0 Status: OK