Package: MBCB Version: 1.54.0 Command: F:\biocbuild\bbs-3.17-bioc\R\bin\R.exe CMD check --no-multiarch --install=check:MBCB.install-out.txt --library=F:\biocbuild\bbs-3.17-bioc\R\library --no-vignettes --timings MBCB_1.54.0.tar.gz StartedAt: 2023-10-16 03:43:34 -0400 (Mon, 16 Oct 2023) EndedAt: 2023-10-16 03:44:02 -0400 (Mon, 16 Oct 2023) EllapsedTime: 27.4 seconds RetCode: 0 Status: OK CheckDir: MBCB.Rcheck Warnings: 0