Package: MBCB Version: 1.54.0 Command: chmod a+r MBCB -R && F:\biocbuild\bbs-3.17-bioc\R\bin\R.exe CMD build --keep-empty-dirs --no-resave-data MBCB StartedAt: 2023-10-15 20:12:50 -0400 (Sun, 15 Oct 2023) EndedAt: 2023-10-15 20:13:01 -0400 (Sun, 15 Oct 2023) EllapsedTime: 11.0 seconds RetCode: 0 Status: OK PackageFile: MBCB_1.54.0.tar.gz PackageFileSize: 317.3 KiB