Package: MBCB Version: 1.54.0 Command: /home/biocbuild/bbs-3.17-bioc/R/bin/R CMD INSTALL MBCB StartedAt: 2023-10-15 15:07:05 -0400 (Sun, 15 Oct 2023) EndedAt: 2023-10-15 15:07:18 -0400 (Sun, 15 Oct 2023) EllapsedTime: 12.7 seconds RetCode: 0 Status: OK