Package: MBCB Version: 1.54.0 Command: rm -rf MBCB.buildbin-libdir && mkdir MBCB.buildbin-libdir && /Users/biocbuild/BBS/utils/build-universal.sh MBCB_1.54.0.tar.gz /Library/Frameworks/R.framework/Resources/bin/R MBCB.buildbin-libdir StartedAt: 2023-10-16 09:40:12 -0400 (Mon, 16 Oct 2023) EndedAt: 2023-10-16 09:40:25 -0400 (Mon, 16 Oct 2023) EllapsedTime: 13.8 seconds RetCode: 0 Status: OK PackageFile: MBCB_1.54.0.tgz PackageFileSize: 469.8 KiB