Package: MBASED Version: 1.34.0 Command: rm -rf MBASED.buildbin-libdir && mkdir MBASED.buildbin-libdir && F:\biocbuild\bbs-3.17-bioc\R\bin\R.exe CMD INSTALL --build --library=MBASED.buildbin-libdir MBASED_1.34.0.tar.gz StartedAt: 2023-10-16 09:02:19 -0400 (Mon, 16 Oct 2023) EndedAt: 2023-10-16 09:02:47 -0400 (Mon, 16 Oct 2023) EllapsedTime: 28.5 seconds RetCode: 0 Status: OK PackageFile: MBASED_1.34.0.zip PackageFileSize: 498 KiB