Package: MBASED Version: 1.34.0 Command: /home/biocbuild/bbs-3.17-bioc/R/bin/R CMD INSTALL MBASED StartedAt: 2023-10-15 15:20:41 -0400 (Sun, 15 Oct 2023) EndedAt: 2023-10-15 15:21:01 -0400 (Sun, 15 Oct 2023) EllapsedTime: 20.0 seconds RetCode: 0 Status: OK