Package: MBASED Version: 1.34.0 Command: /Library/Frameworks/R.framework/Resources/bin/R CMD build --keep-empty-dirs --no-resave-data MBASED StartedAt: 2023-10-15 19:16:03 -0400 (Sun, 15 Oct 2023) EndedAt: 2023-10-15 19:20:09 -0400 (Sun, 15 Oct 2023) EllapsedTime: 246.2 seconds RetCode: 0 Status: OK PackageFile: MBASED_1.34.0.tar.gz PackageFileSize: 364.6 KiB