Package: MAST Version: 1.26.0 Command: F:\biocbuild\bbs-3.17-bioc\R\bin\R.exe CMD INSTALL MAST StartedAt: 2023-10-15 16:02:09 -0400 (Sun, 15 Oct 2023) EndedAt: 2023-10-15 16:03:07 -0400 (Sun, 15 Oct 2023) EllapsedTime: 58.2 seconds RetCode: 0 Status: OK