Package: MAST Version: 1.26.0 Command: F:\biocbuild\bbs-3.17-bioc\R\bin\R.exe CMD check --no-multiarch --install=check:MAST.install-out.txt --library=F:\biocbuild\bbs-3.17-bioc\R\library --no-vignettes --timings MAST_1.26.0.tar.gz StartedAt: 2023-10-16 03:42:07 -0400 (Mon, 16 Oct 2023) EndedAt: 2023-10-16 03:46:49 -0400 (Mon, 16 Oct 2023) EllapsedTime: 282.8 seconds RetCode: 0 Status: OK CheckDir: MAST.Rcheck Warnings: 0