Package: MAIT Version: 1.34.0 Command: rm -rf MAIT.buildbin-libdir && mkdir MAIT.buildbin-libdir && /Users/biocbuild/BBS/utils/build-universal.sh MAIT_1.34.0.tar.gz /Library/Frameworks/R.framework/Resources/bin/R MAIT.buildbin-libdir StartedAt: 2023-10-16 09:39:23 -0400 (Mon, 16 Oct 2023) EndedAt: 2023-10-16 09:41:49 -0400 (Mon, 16 Oct 2023) EllapsedTime: 146.4 seconds RetCode: 0 Status: OK PackageFile: MAIT_1.34.0.tgz PackageFileSize: 973.6 KiB