Package: MADSEQ Version: 1.26.0 Command: F:\biocbuild\bbs-3.17-bioc\R\bin\R.exe CMD INSTALL MADSEQ StartedAt: 2023-10-15 16:21:21 -0400 (Sun, 15 Oct 2023) EndedAt: 2023-10-15 16:22:14 -0400 (Sun, 15 Oct 2023) EllapsedTime: 53.0 seconds RetCode: 0 Status: OK