Package: MADSEQ Version: 1.26.0 Command: chmod a+r MADSEQ -R && F:\biocbuild\bbs-3.17-bioc\R\bin\R.exe CMD build --keep-empty-dirs --no-resave-data MADSEQ StartedAt: 2023-10-15 20:08:37 -0400 (Sun, 15 Oct 2023) EndedAt: 2023-10-15 20:09:57 -0400 (Sun, 15 Oct 2023) EllapsedTime: 80.2 seconds RetCode: 0 Status: OK PackageFile: MADSEQ_1.26.0.tar.gz PackageFileSize: 1.871 MiB