Package: MADSEQ Version: 1.26.0 Command: rm -rf MADSEQ.buildbin-libdir && mkdir MADSEQ.buildbin-libdir && F:\biocbuild\bbs-3.17-bioc\R\bin\R.exe CMD INSTALL --build --library=MADSEQ.buildbin-libdir MADSEQ_1.26.0.tar.gz StartedAt: 2023-10-16 09:01:17 -0400 (Mon, 16 Oct 2023) EndedAt: 2023-10-16 09:02:21 -0400 (Mon, 16 Oct 2023) EllapsedTime: 64.4 seconds RetCode: 0 Status: OK PackageFile: MADSEQ_1.26.0.zip PackageFileSize: 2.255 MiB