Package: MADSEQ Version: 1.26.0 Command: /home/biocbuild/bbs-3.17-bioc/R/bin/R CMD check --install=check:MADSEQ.install-out.txt --library=/home/biocbuild/bbs-3.17-bioc/R/site-library --timings MADSEQ_1.26.0.tar.gz StartedAt: 2023-10-15 22:27:03 -0400 (Sun, 15 Oct 2023) EndedAt: 2023-10-15 22:32:01 -0400 (Sun, 15 Oct 2023) EllapsedTime: 298.2 seconds RetCode: 0 Status: OK CheckDir: MADSEQ.Rcheck Warnings: 0