Package: MADSEQ Version: 1.26.0 Command: /Library/Frameworks/R.framework/Resources/bin/R CMD INSTALL MADSEQ StartedAt: 2023-10-15 15:37:57 -0400 (Sun, 15 Oct 2023) EndedAt: 2023-10-15 15:40:18 -0400 (Sun, 15 Oct 2023) EllapsedTime: 140.7 seconds RetCode: 0 Status: OK