Package: MADSEQ Version: 1.26.0 Command: /Library/Frameworks/R.framework/Resources/bin/R CMD check --install=check:MADSEQ.install-out.txt --library=/Library/Frameworks/R.framework/Resources/library --no-vignettes --timings MADSEQ_1.26.0.tar.gz StartedAt: 2023-10-16 03:20:12 -0400 (Mon, 16 Oct 2023) EndedAt: 2023-10-16 03:32:56 -0400 (Mon, 16 Oct 2023) EllapsedTime: 764.7 seconds RetCode: 0 Status: OK CheckDir: MADSEQ.Rcheck Warnings: 0