Package: MADSEQ Version: 1.26.0 Command: /Library/Frameworks/R.framework/Resources/bin/R CMD build --keep-empty-dirs --no-resave-data MADSEQ StartedAt: 2023-10-15 19:12:39 -0400 (Sun, 15 Oct 2023) EndedAt: 2023-10-15 19:15:34 -0400 (Sun, 15 Oct 2023) EllapsedTime: 174.7 seconds RetCode: 0 Status: OK PackageFile: MADSEQ_1.26.0.tar.gz PackageFileSize: 1.985 MiB