Package: MADSEQ Version: 1.26.0 Command: rm -rf MADSEQ.buildbin-libdir && mkdir MADSEQ.buildbin-libdir && /Users/biocbuild/BBS/utils/build-universal.sh MADSEQ_1.26.0.tar.gz /Library/Frameworks/R.framework/Resources/bin/R MADSEQ.buildbin-libdir StartedAt: 2023-10-16 09:39:11 -0400 (Mon, 16 Oct 2023) EndedAt: 2023-10-16 09:41:33 -0400 (Mon, 16 Oct 2023) EllapsedTime: 142.2 seconds RetCode: 0 Status: OK PackageFile: MADSEQ_1.26.0.tgz PackageFileSize: 2.364 MiB