Package: MACSr Version: 1.8.0 Command: rm -rf MACSr.buildbin-libdir && mkdir MACSr.buildbin-libdir && /Users/biocbuild/BBS/utils/build-universal.sh MACSr_1.8.0.tar.gz /Library/Frameworks/R.framework/Resources/bin/R MACSr.buildbin-libdir StartedAt: 2023-10-16 09:39:02 -0400 (Mon, 16 Oct 2023) EndedAt: 2023-10-16 09:40:05 -0400 (Mon, 16 Oct 2023) EllapsedTime: 63.4 seconds RetCode: 0 Status: OK PackageFile: MACSr_1.8.0.tgz PackageFileSize: 1.147 MiB