Package: MACSQuantifyR Version: 1.14.0 Command: chmod a+r MACSQuantifyR -R && F:\biocbuild\bbs-3.17-bioc\R\bin\R.exe CMD build --keep-empty-dirs --no-resave-data MACSQuantifyR StartedAt: 2023-10-15 20:08:19 -0400 (Sun, 15 Oct 2023) EndedAt: 2023-10-15 20:08:47 -0400 (Sun, 15 Oct 2023) EllapsedTime: 28.0 seconds RetCode: 0 Status: OK PackageFile: MACSQuantifyR_1.14.0.tar.gz PackageFileSize: 3.334 MiB