Package: MACSQuantifyR Version: 1.14.0 Command: rm -rf MACSQuantifyR.buildbin-libdir && mkdir MACSQuantifyR.buildbin-libdir && F:\biocbuild\bbs-3.17-bioc\R\bin\R.exe CMD INSTALL --build --library=MACSQuantifyR.buildbin-libdir MACSQuantifyR_1.14.0.tar.gz StartedAt: 2023-10-16 09:01:14 -0400 (Mon, 16 Oct 2023) EndedAt: 2023-10-16 09:01:29 -0400 (Mon, 16 Oct 2023) EllapsedTime: 15.1 seconds RetCode: 0 Status: OK PackageFile: MACSQuantifyR_1.14.0.zip PackageFileSize: 3.383 MiB