Package: MACSQuantifyR Version: 1.14.0 Command: rm -rf MACSQuantifyR.buildbin-libdir && mkdir MACSQuantifyR.buildbin-libdir && /Users/biocbuild/BBS/utils/build-universal.sh MACSQuantifyR_1.14.0.tar.gz /Library/Frameworks/R.framework/Resources/bin/R MACSQuantifyR.buildbin-libdir StartedAt: 2023-10-16 09:39:02 -0400 (Mon, 16 Oct 2023) EndedAt: 2023-10-16 09:39:24 -0400 (Mon, 16 Oct 2023) EllapsedTime: 22.1 seconds RetCode: 0 Status: OK PackageFile: MACSQuantifyR_1.14.0.tgz PackageFileSize: 3.804 MiB