Package: M3C Version: 1.22.0 Command: F:\biocbuild\bbs-3.17-bioc\R\bin\R.exe CMD check --no-multiarch --install=check:M3C.install-out.txt --library=F:\biocbuild\bbs-3.17-bioc\R\library --no-vignettes --timings M3C_1.22.0.tar.gz StartedAt: 2023-10-16 03:34:42 -0400 (Mon, 16 Oct 2023) EndedAt: 2023-10-16 03:36:04 -0400 (Mon, 16 Oct 2023) EllapsedTime: 82.2 seconds RetCode: 0 Status: OK CheckDir: M3C.Rcheck Warnings: 0