Package: M3C Version: 1.22.0 Command: /Library/Frameworks/R.framework/Resources/bin/R CMD check --install=check:M3C.install-out.txt --library=/Library/Frameworks/R.framework/Resources/library --no-vignettes --timings M3C_1.22.0.tar.gz StartedAt: 2023-10-16 03:18:36 -0400 (Mon, 16 Oct 2023) EndedAt: 2023-10-16 03:21:53 -0400 (Mon, 16 Oct 2023) EllapsedTime: 197.6 seconds RetCode: 0 Status: OK CheckDir: M3C.Rcheck Warnings: 0